BEGIN:VCALENDAR
VERSION:2.0
PRODID:-//Staverton Parish Council//Meeting Calendar//EN
CALSCALE:GREGORIAN
METHOD:PUBLISH
BEGIN:VEVENT
UID:70370-20211102@stavertonparishcouncil.gov.uk
DTSTAMP:20260424T172002Z
DTSTART;VALUE=DATE:20211102
DTEND;VALUE=DATE:20211103
SUMMARY:Council Meeting &#8211\\; 2nd November 2021
DESCRIPTION:Council &amp; Parish Meeting\nView details: https://stavertonparishcouncil.gov.uk/meetings/council-meeting-2nd-november-2021/
URL:https://stavertonparishcouncil.gov.uk/meetings/council-meeting-2nd-november-2021/
END:VEVENT
END:VCALENDAR
