BEGIN:VCALENDAR
VERSION:2.0
PRODID:-//Staverton Parish Council//Meeting Calendar//EN
CALSCALE:GREGORIAN
METHOD:PUBLISH
BEGIN:VEVENT
UID:70375-20211005@stavertonparishcouncil.gov.uk
DTSTAMP:20260424T154854Z
DTSTART;VALUE=DATE:20211005
DTEND;VALUE=DATE:20211006
SUMMARY:Council Meeting &#8211\\; 5th October 2021
DESCRIPTION:Council &amp; Parish Meeting\nView details: https://stavertonparishcouncil.gov.uk/meetings/council-meeting-5th-october-2021/
URL:https://stavertonparishcouncil.gov.uk/meetings/council-meeting-5th-october-2021/
END:VEVENT
END:VCALENDAR
