BEGIN:VCALENDAR
VERSION:2.0
PRODID:-//Staverton Parish Council//Meeting Calendar//EN
CALSCALE:GREGORIAN
METHOD:PUBLISH
BEGIN:VEVENT
UID:70378-20210907@stavertonparishcouncil.gov.uk
DTSTAMP:20260424T133817Z
DTSTART;VALUE=DATE:20210907
DTEND;VALUE=DATE:20210908
SUMMARY:Council Meeting &#8211\\; 7th September 2021
DESCRIPTION:Council &amp; Parish Meeting\nView details: https://stavertonparishcouncil.gov.uk/meetings/council-meeting-7th-september-2021/
URL:https://stavertonparishcouncil.gov.uk/meetings/council-meeting-7th-september-2021/
END:VEVENT
END:VCALENDAR
