BEGIN:VCALENDAR
VERSION:2.0
PRODID:-//Staverton Parish Council//Meeting Calendar//EN
CALSCALE:GREGORIAN
METHOD:PUBLISH
BEGIN:VEVENT
UID:70381-20210803@stavertonparishcouncil.gov.uk
DTSTAMP:20260424T113805Z
DTSTART;VALUE=DATE:20210803
DTEND;VALUE=DATE:20210804
SUMMARY:Council Meeting &#8211\\; 3rd August 2021
DESCRIPTION:Council &amp; Parish Meeting\nView details: https://stavertonparishcouncil.gov.uk/meetings/council-meeting-3rd-august-2021/
URL:https://stavertonparishcouncil.gov.uk/meetings/council-meeting-3rd-august-2021/
END:VEVENT
END:VCALENDAR
