BEGIN:VCALENDAR
VERSION:2.0
PRODID:-//Staverton Parish Council//Meeting Calendar//EN
CALSCALE:GREGORIAN
METHOD:PUBLISH
BEGIN:VEVENT
UID:70384-20210706@stavertonparishcouncil.gov.uk
DTSTAMP:20260424T095609Z
DTSTART;VALUE=DATE:20210706
DTEND;VALUE=DATE:20210707
SUMMARY:Council Meeting &#8211\\; 6th July 2021
DESCRIPTION:Council &amp; Parish Meeting\nView details: https://stavertonparishcouncil.gov.uk/meetings/council-meeting-6th-july-2021/
URL:https://stavertonparishcouncil.gov.uk/meetings/council-meeting-6th-july-2021/
END:VEVENT
END:VCALENDAR
