BEGIN:VCALENDAR
VERSION:2.0
PRODID:-//Staverton Parish Council//Meeting Calendar//EN
CALSCALE:GREGORIAN
METHOD:PUBLISH
BEGIN:VEVENT
UID:70387-20210601@stavertonparishcouncil.gov.uk
DTSTAMP:20260424T081555Z
DTSTART;VALUE=DATE:20210601
DTEND;VALUE=DATE:20210602
SUMMARY:Council Meeting &#8211\\; 1st June 2021
DESCRIPTION:Council &amp; Parish Meeting\nView details: https://stavertonparishcouncil.gov.uk/meetings/council-meeting-1st-june-2021/
URL:https://stavertonparishcouncil.gov.uk/meetings/council-meeting-1st-june-2021/
END:VEVENT
END:VCALENDAR
