BEGIN:VCALENDAR
VERSION:2.0
PRODID:-//Staverton Parish Council//Meeting Calendar//EN
CALSCALE:GREGORIAN
METHOD:PUBLISH
BEGIN:VEVENT
UID:70390-20210518@stavertonparishcouncil.gov.uk
DTSTAMP:20260422T084233Z
DTSTART;VALUE=DATE:20210518
DTEND;VALUE=DATE:20210519
SUMMARY:Annual meeting of the Parish Council &#8211\\; 18th May 2021
DESCRIPTION:Council &amp; Parish Meeting\nView details: https://stavertonparishcouncil.gov.uk/meetings/agm-18th-may-2021/
URL:https://stavertonparishcouncil.gov.uk/meetings/agm-18th-may-2021/
END:VEVENT
END:VCALENDAR
