BEGIN:VCALENDAR
VERSION:2.0
PRODID:-//Staverton Parish Council//Meeting Calendar//EN
CALSCALE:GREGORIAN
METHOD:PUBLISH
BEGIN:VEVENT
UID:70399-20210202@stavertonparishcouncil.gov.uk
DTSTAMP:20260424T095248Z
DTSTART;VALUE=DATE:20210202
DTEND;VALUE=DATE:20210203
SUMMARY:Council Meeting &#8211\\; 2nd February 2021
DESCRIPTION:Council &amp; Parish Meeting\nView details: https://stavertonparishcouncil.gov.uk/meetings/council-meeting-2nd-february-2021/
URL:https://stavertonparishcouncil.gov.uk/meetings/council-meeting-2nd-february-2021/
END:VEVENT
END:VCALENDAR
