BEGIN:VCALENDAR
VERSION:2.0
PRODID:-//Staverton Parish Council//Meeting Calendar//EN
CALSCALE:GREGORIAN
METHOD:PUBLISH
BEGIN:VEVENT
UID:70405-20201201@stavertonparishcouncil.gov.uk
DTSTAMP:20260424T095406Z
DTSTART;VALUE=DATE:20201201
DTEND;VALUE=DATE:20201202
SUMMARY:Council Meeting &#8211\\; 1st December 2020
DESCRIPTION:Council &amp; Parish Meeting\nView details: https://stavertonparishcouncil.gov.uk/meetings/council-meeting-1st-december-2020/
URL:https://stavertonparishcouncil.gov.uk/meetings/council-meeting-1st-december-2020/
END:VEVENT
END:VCALENDAR
