BEGIN:VCALENDAR
VERSION:2.0
PRODID:-//Staverton Parish Council//Meeting Calendar//EN
CALSCALE:GREGORIAN
METHOD:PUBLISH
BEGIN:VEVENT
UID:70409-20201103@stavertonparishcouncil.gov.uk
DTSTAMP:20260424T080933Z
DTSTART;VALUE=DATE:20201103
DTEND;VALUE=DATE:20201104
SUMMARY:Council Meeting &#8211\\; 3rd November 2020
DESCRIPTION:Council &amp; Parish Meeting\nView details: https://stavertonparishcouncil.gov.uk/meetings/council-meeting-3rd-november-2020/
URL:https://stavertonparishcouncil.gov.uk/meetings/council-meeting-3rd-november-2020/
END:VEVENT
END:VCALENDAR
