BEGIN:VCALENDAR
VERSION:2.0
PRODID:-//Staverton Parish Council//Meeting Calendar//EN
CALSCALE:GREGORIAN
METHOD:PUBLISH
BEGIN:VEVENT
UID:70411-20201006@stavertonparishcouncil.gov.uk
DTSTAMP:20260422T084644Z
DTSTART;VALUE=DATE:20201006
DTEND;VALUE=DATE:20201007
SUMMARY:Council Meeting &#8211\\; 6th October 2020
DESCRIPTION:Council &amp; Parish Meeting\nView details: https://stavertonparishcouncil.gov.uk/meetings/council-meeting-6th-october-2020/
URL:https://stavertonparishcouncil.gov.uk/meetings/council-meeting-6th-october-2020/
END:VEVENT
END:VCALENDAR
