BEGIN:VCALENDAR
VERSION:2.0
PRODID:-//Staverton Parish Council//Meeting Calendar//EN
CALSCALE:GREGORIAN
METHOD:PUBLISH
BEGIN:VEVENT
UID:70466-20160811@stavertonparishcouncil.gov.uk
DTSTAMP:20260423T124155Z
DTSTART;VALUE=DATE:20160811
DTEND;VALUE=DATE:20160812
SUMMARY:Playground Committee Meeting &#8211\\; 11th August 2016
DESCRIPTION:Council Meeting\nView details: https://stavertonparishcouncil.gov.uk/meetings/playground-committee-meeting-11th-august-2016/
URL:https://stavertonparishcouncil.gov.uk/meetings/playground-committee-meeting-11th-august-2016/
END:VEVENT
END:VCALENDAR
