BEGIN:VCALENDAR
VERSION:2.0
PRODID:-//Staverton Parish Council//Meeting Calendar//EN
CALSCALE:GREGORIAN
METHOD:PUBLISH
BEGIN:VEVENT
UID:70468-20161005@stavertonparishcouncil.gov.uk
DTSTAMP:20260423T083230Z
DTSTART;VALUE=DATE:20161005
DTEND;VALUE=DATE:20161006
SUMMARY:Playing Field Committee Meeting &#8211\\; 5th October 2016
DESCRIPTION:Council Meeting\nView details: https://stavertonparishcouncil.gov.uk/meetings/playing-field-committee-meeting-5th-october-2016/
URL:https://stavertonparishcouncil.gov.uk/meetings/playing-field-committee-meeting-5th-october-2016/
END:VEVENT
END:VCALENDAR
