BEGIN:VCALENDAR
VERSION:2.0
PRODID:-//Staverton Parish Council//Meeting Calendar//EN
CALSCALE:GREGORIAN
METHOD:PUBLISH
BEGIN:VEVENT
UID:71644-20251104@stavertonparishcouncil.gov.uk
DTSTAMP:20260423T083242Z
DTSTART;VALUE=DATE:20251104
DTEND;VALUE=DATE:20251105
SUMMARY:Council meeting November 4th 2025
DESCRIPTION:Council &amp; Parish Meeting\nView details: https://stavertonparishcouncil.gov.uk/meetings/council-meeting-november-4th-2025/
URL:https://stavertonparishcouncil.gov.uk/meetings/council-meeting-november-4th-2025/
END:VEVENT
END:VCALENDAR
