BEGIN:VCALENDAR
VERSION:2.0
PRODID:-//Staverton Parish Council//Meeting Calendar//EN
CALSCALE:GREGORIAN
METHOD:PUBLISH
BEGIN:VEVENT
UID:71702-20260303@stavertonparishcouncil.gov.uk
DTSTAMP:20260419T130157Z
DTSTART;VALUE=DATE:20260303
DTEND;VALUE=DATE:20260304
SUMMARY:Council Meeting March 3rd 2026
DESCRIPTION:Council &amp; Parish Meeting\nView details: https://stavertonparishcouncil.gov.uk/meetings/council-meeting-march-3rd/
URL:https://stavertonparishcouncil.gov.uk/meetings/council-meeting-march-3rd/
END:VEVENT
END:VCALENDAR
